BEGIN:VCALENDAR
VERSION:2.0
PRODID:-//Library Market//iCal Export//EN
BEGIN:VEVENT
SUMMARY:Zine Week: Camp
UID:18683
DTSTAMP:20260426T012400Z
DTSTART:20260608T050000Z
DTEND:20260612T050000Z
LOCATION:7555 Jackson Blvd, Forest Park, IL 60130, United States
ROOM: Young Adult Lounge
DESCRIPTION:Drop in and create something fun for our FPPL Teen Newsletter!
  This week, we&#039;ll have supplies out for you to draw or write your own
  summer camp-themed creation, which we will feature in next month&#039;s i
 ssue.
URL:https://forestpark.librarycalendar.com/event/zine-week-camp-18683
END:VEVENT
END:VCALENDAR
