BEGIN:VCALENDAR
VERSION:2.0
PRODID:-//Library Market//iCal Export//EN
BEGIN:VEVENT
SUMMARY:Beginning Tai Chi
UID:18675
DTSTAMP:20260423T092600Z
DTSTART:20260720T153000Z
DTEND:20260720T163000Z
LOCATION:7555 Jackson Blvd, Forest Park, IL 60130, United States
ROOM: Austin Room
DESCRIPTION:Class involves a series of movements performed in a slow gentl
 e way. Focus on breathing and body awareness in this slow moving form of m
 editation.   Funds in part for this program were provided through an aw
 ard from AgeOptions through funding from the American Rescue Plan Act.
URL:https://forestpark.librarycalendar.com/event/beginning-tai-chi-18675
END:VEVENT
END:VCALENDAR
