BEGIN:VCALENDAR
VERSION:2.0
PRODID:-//Library Market//iCal Export//EN
BEGIN:VEVENT
SUMMARY:Tai Chi
UID:18665
DTSTAMP:20260423T041800Z
DTSTART:20260810T143000Z
DTEND:20260810T153000Z
LOCATION:7555 Jackson Blvd, Forest Park, IL 60130, United States
ROOM: Austin Room
DESCRIPTION:Class involves a series of movements performed in a slow gentl
 e way. Focus on breathing and body awareness in this slow moving form of m
 editation.  Some basic familiarity with Tai Chi is expected.  Funds in 
 part for this program were provided through an award from AgeOptions throu
 gh funding from the American Rescue Plan Act.
URL:https://forestpark.librarycalendar.com/event/tai-chi-18665
END:VEVENT
END:VCALENDAR
