BEGIN:VCALENDAR
VERSION:2.0
PRODID:-//Library Market//iCal Export//EN
BEGIN:VEVENT
SUMMARY:Age-ility
UID:18654
DTSTAMP:20260423T071400Z
DTSTART:20260701T180000Z
DTEND:20260701T190000Z
LOCATION:7555 Jackson Blvd, Forest Park, IL 60130, United States
ROOM: Austin Room
DESCRIPTION:Age-ility is a fun, low-impact fitness class designed to help 
 older adults stay strong, mobile, and independent. Each session focuses on
  improving balance, flexibility, strength, and coordination through safe, 
 functional movements that support everyday activities. Exercises can be mo
 dified for all fitness levels, welcoming both beginners and experienced pa
 rticipants. Join us to move better, feel stronger, and build confidence in
  your body at any age!  The presenter is Sarah Lofgren.
URL:https://forestpark.librarycalendar.com/event/age-ility-18654
END:VEVENT
END:VCALENDAR
