BEGIN:VCALENDAR
VERSION:2.0
PRODID:-//Library Market//iCal Export//EN
BEGIN:VEVENT
SUMMARY:Chair Yoga
UID:18652
DTSTAMP:20260424T162800Z
DTSTART:20260827T170000Z
DTEND:20260827T173000Z
LOCATION:7555 Jackson Blvd, Forest Park, IL 60130, United States
ROOM: Austin Room
DESCRIPTION:Join this 30 minute Chair Yoga class with DuShaun Branch that 
 will be accessible and open to all bodies!  Chair Yoga is a great introdu
 ction to Yoga and allows students to use an everyday prop, the chair!!!Fun
 ds in part for this program were provided through an award from AgeOptions
  through funding from the American Rescue Plan Act.
URL:https://forestpark.librarycalendar.com/event/chair-yoga-18652
END:VEVENT
END:VCALENDAR
