BEGIN:VCALENDAR
VERSION:2.0
PRODID:-//Library Market//iCal Export//EN
BEGIN:VEVENT
SUMMARY:Silent Reading Gathering
UID:18621
DTSTAMP:20260423T224600Z
DTSTART:20260802T190000Z
DTEND:20260802T210000Z
LOCATION:Forest Park Park District- Roos Pavillion, 7329 Harrison St., 755
 5 W. Jackson Boulevard, Forest Park, IL 60130, United States
ROOM: Silent Reading Gathering
DESCRIPTION:It’s the return of the Silent Reading Gathering!  Readers l
 ooking for a tranquil communal experience will gather &amp; read books tog
 ether at the Roos Pavillion behind the Roos Recreation Center.  There is 
 shade and seating.  Let the sun be the inspiration to let your thoughts r
 oam deep into your book. 7329 Harrison St, Forest Park, IL 60130
URL:https://forestpark.librarycalendar.com/event/silent-reading-gathering-
 18621
END:VEVENT
END:VCALENDAR
