BEGIN:VCALENDAR
VERSION:2.0
PRODID:-//Library Market//iCal Export//EN
BEGIN:VEVENT
SUMMARY:Miniature Bookcase Making with Catherine Suchy
UID:18525
DTSTAMP:20260422T212400Z
DTSTART:20260912T150000Z
DTEND:20260912T170000Z
LOCATION:7555 Jackson Blvd, Forest Park, IL 60130, United States
ROOM: Youth Services Program Room
DESCRIPTION:Delight in creating your own miniature bookshelf in this guide
 d lesson by Catherine Suchy. Designed for grades 5-7.
URL:https://forestpark.librarycalendar.com/event/miniature-bookcase-making
 -catherine-suchy-18525
END:VEVENT
END:VCALENDAR
