BEGIN:VCALENDAR
VERSION:2.0
PRODID:-//Library Market//iCal Export//EN
BEGIN:VEVENT
SUMMARY:Narcan Training
UID:18434
DTSTAMP:20260421T202300Z
DTSTART:20260828T000000Z
DTEND:20260828T010000Z
LOCATION:7555 Jackson Blvd, Forest Park, IL 60130, United States
ROOM: Austin Room
DESCRIPTION:The Cook County Medical Examiner’s Office stated that there 
 were 1,822 opioid-related deaths in 2023. In this program, the University 
 of IL Extension presents the statistics surrounding opioid use, emerging
  trends, how to respond to an opioid overdose, and how to use life-savin
 g nasal naloxone as well as how to use fentanyl test strips.The University
  of IL Extension has also partnered with the Cook County Department of Pub
 lic Health to provide FREE Naloxone and FREE Fentanyl Test Strips to be 
 given out at the end of each program.The program lasts about an hour. 
URL:https://forestpark.librarycalendar.com/event/narcan-training-18434
END:VEVENT
END:VCALENDAR
