BEGIN:VCALENDAR
VERSION:2.0
PRODID:-//Library Market//iCal Export//EN
BEGIN:VEVENT
SUMMARY:Carl the Collector Showing
UID:18280
DTSTAMP:20260419T172800Z
DTSTART:20260731T210000Z
DTEND:20260731T220000Z
LOCATION:7555 Jackson Blvd, Forest Park, IL 60130, United States
ROOM: Youth Services Program Room
DESCRIPTION:Come and watch a few episodes of Carl the Collector, a PBS Kid
 s show about Carl, a young, friendly, autistic raccoon and his friends. Th
 e show embraces learning and celebrates everyone&#039;s uniqueness. Design
 ed for Kindergarten to Grade 3.This program is in partnership with the Oak
  Park Public Library.
URL:https://forestpark.librarycalendar.com/event/carl-collector-showing-18
 280
END:VEVENT
END:VCALENDAR
