BEGIN:VCALENDAR
VERSION:2.0
PRODID:-//Library Market//iCal Export//EN
BEGIN:VEVENT
SUMMARY:Make a Bug Hotel
UID:18154
DTSTAMP:20260422T155500Z
DTSTART:20260605T210000Z
DTEND:20260605T220000Z
LOCATION:7555 Jackson Blvd, Forest Park, IL 60130, United States
ROOM: Youth Services Program Room
DESCRIPTION:Create bug hotels to help various garden insects using earth f
 riendly and recycled materials. Designed for grades 3 to 5.
URL:https://forestpark.librarycalendar.com/event/bug-hotel-making-18154
END:VEVENT
END:VCALENDAR
