BEGIN:VCALENDAR
VERSION:2.0
PRODID:-//Library Market//iCal Export//EN
BEGIN:VEVENT
SUMMARY:Slushies in a Bag
UID:17991
DTSTAMP:20260420T035500Z
DTSTART:20260612T210000Z
DTEND:20260612T220000Z
LOCATION:7555 Jackson Blvd, Forest Park, IL 60130, United States
ROOM: Youth Services Program Room
DESCRIPTION:Create your own tasty frozen treat using fruit juice, salt, an
 d ice cubes. Designed for grades 3 to 5.
URL:https://forestpark.librarycalendar.com/event/slushies-bag-17991
END:VEVENT
END:VCALENDAR
